BEGIN:VCALENDAR
VERSION:2.0
PRODID:-//Nittany Baptist Church - ECPv6.15.20//NONSGML v1.0//EN
CALSCALE:GREGORIAN
METHOD:PUBLISH
X-WR-CALNAME:Nittany Baptist Church
X-ORIGINAL-URL:https://nittanybaptist.org
X-WR-CALDESC:Events for Nittany Baptist Church
REFRESH-INTERVAL;VALUE=DURATION:PT1H
X-Robots-Tag:noindex
X-PUBLISHED-TTL:PT1H
BEGIN:VTIMEZONE
TZID:UTC
BEGIN:STANDARD
TZOFFSETFROM:+0000
TZOFFSETTO:+0000
TZNAME:UTC
DTSTART:20220101T000000
END:STANDARD
END:VTIMEZONE
BEGIN:VEVENT
DTSTART;TZID=UTC:20260415T183000
DTEND;TZID=UTC:20260415T193000
DTSTAMP:20260423T065824
CREATED:20240718T134413Z
LAST-MODIFIED:20260406T125302Z
UID:2455-1776277800-1776281400@nittanybaptist.org
SUMMARY:Midweek Bible Study\,
DESCRIPTION:
URL:https://nittanybaptist.org/event/midweek-bible-study-3/
END:VEVENT
BEGIN:VEVENT
DTSTART;TZID=UTC:20260413T090000
DTEND;TZID=UTC:20260413T090000
DTSTAMP:20260423T065824
CREATED:20240905T133031Z
LAST-MODIFIED:20260406T125152Z
UID:2531-1776070800-1776070800@nittanybaptist.org
SUMMARY:Homeschoolers Co-Op
DESCRIPTION:Our church sponsors a sizeable Co-op for homeschooling families.  Check with Rachelle with details at 360-7157. \nThis is a good time of learning regularly as a group and then there are also great field trips that enhance the learning experience of the children together !
URL:https://nittanybaptist.org/event/homeschoolers-co-op/
END:VEVENT
BEGIN:VEVENT
DTSTART;TZID=UTC:20260412T104500
DTEND;TZID=UTC:20260412T104500
DTSTAMP:20260423T065824
CREATED:20240718T134648Z
LAST-MODIFIED:20260406T125110Z
UID:2459-1775990700-1775990700@nittanybaptist.org
SUMMARY:Morning Worship\,
DESCRIPTION:Come worship with us and enjoy some Christlike music and a Bible based sermon to feed your soul !!!
URL:https://nittanybaptist.org/event/morning-worship-2/
END:VEVENT
BEGIN:VEVENT
DTSTART;TZID=UTC:20260412T094500
DTEND;TZID=UTC:20260412T103000
DTSTAMP:20260423T065824
CREATED:20240905T133523Z
LAST-MODIFIED:20260406T125035Z
UID:2537-1775987100-1775989800@nittanybaptist.org
SUMMARY:Sunday School..
DESCRIPTION:
URL:https://nittanybaptist.org/event/sunday-school-5/
END:VEVENT
BEGIN:VEVENT
DTSTART;TZID=UTC:20260408T063000
DTEND;TZID=UTC:20260408T193000
DTSTAMP:20260423T065824
CREATED:20251201T230355Z
LAST-MODIFIED:20260406T124953Z
UID:2905-1775629800-1775676600@nittanybaptist.org
SUMMARY:No Midweek Bible Study.
DESCRIPTION:
URL:https://nittanybaptist.org/event/no-midweek-bible-study/
END:VEVENT
BEGIN:VEVENT
DTSTART;TZID=UTC:20260405T094500
DTEND;TZID=UTC:20260405T103000
DTSTAMP:20260423T065824
CREATED:20260303T133656Z
LAST-MODIFIED:20260303T133656Z
UID:2970-1775382300-1775385000@nittanybaptist.org
SUMMARY:EASTER SUNDAY SERVICE
DESCRIPTION:The cornerstone of our faith is the Resurrection of Christ.  Join us for this service as once again we celebrate this special event validating that Jesus is INDEED RISEN !!!
URL:https://nittanybaptist.org/event/easter-sunday-service/
END:VEVENT
BEGIN:VEVENT
DTSTART;TZID=UTC:20260405T083000
DTEND;TZID=UTC:20260405T091500
DTSTAMP:20260423T065824
CREATED:20260303T133831Z
LAST-MODIFIED:20260303T133831Z
UID:2972-1775377800-1775380500@nittanybaptist.org
SUMMARY:EASTER SUNRISE SERVICE
DESCRIPTION:Rise and shine with us as we begin Easter observances with a special early Sunrise Service !
URL:https://nittanybaptist.org/event/easter-sunrise-service/
END:VEVENT
BEGIN:VEVENT
DTSTART;TZID=UTC:20260401T183000
DTEND;TZID=UTC:20260401T183000
DTSTAMP:20260423T065824
CREATED:20240718T134255Z
LAST-MODIFIED:20260324T140730Z
UID:2452-1775068200-1775068200@nittanybaptist.org
SUMMARY:Midweek Service
DESCRIPTION:Join us for our Wednesday evening programs as we have AWANAS for kids and for adults a Bible study designed to stimulate you spiritually !!
URL:https://nittanybaptist.org/event/midweek-service/
END:VEVENT
BEGIN:VEVENT
DTSTART;TZID=UTC:20260329T120000
DTEND;TZID=UTC:20260329T130000
DTSTAMP:20260423T065824
CREATED:20240718T134035Z
LAST-MODIFIED:20260303T132045Z
UID:2446-1774785600-1774789200@nittanybaptist.org
SUMMARY:Potluck Dinner
DESCRIPTION:A special time of fellowship and food each month after our Morning Services. Come join us\, bring a dish to pass and a dessert !
URL:https://nittanybaptist.org/event/potluck-dinner/
END:VEVENT
BEGIN:VEVENT
DTSTART;TZID=UTC:20260329T104500
DTEND;TZID=UTC:20260329T113000
DTSTAMP:20260423T065824
CREATED:20260303T131958Z
LAST-MODIFIED:20260303T131958Z
UID:2968-1774781100-1774783800@nittanybaptist.org
SUMMARY:PALM SUNDAY SERVICE
DESCRIPTION:A special emphasis this Easter season upon the love of God for us as displayed at Calvary. Join us for this very soul stirring service !!!
URL:https://nittanybaptist.org/event/palm-sunday-service/
END:VEVENT
BEGIN:VEVENT
DTSTART;TZID=UTC:20260325T183000
DTEND;TZID=UTC:20260325T193000
DTSTAMP:20260423T065824
CREATED:20260228T231049Z
LAST-MODIFIED:20260228T231049Z
UID:2964-1774463400-1774467000@nittanybaptist.org
SUMMARY:AWANA Grand Prix
DESCRIPTION:Each year our AWANA kids design their own little car in a friendly competition at the church.  We hope you will come and support the kids for this exciting evening for them !!
URL:https://nittanybaptist.org/event/awana-grand-prix/
END:VEVENT
BEGIN:VEVENT
DTSTART;TZID=UTC:20260322T180000
DTEND;TZID=UTC:20260322T180000
DTSTAMP:20260423T065824
CREATED:20240718T133924Z
LAST-MODIFIED:20260319T141714Z
UID:2444-1774202400-1774202400@nittanybaptist.org
SUMMARY:Mt Nittany Service
DESCRIPTION:Join us as we take the church outside our walls to a Retirement community nearby each month. Its a great opportunity for you to encourage others who cannot always get out to church due to age or infirmity
URL:https://nittanybaptist.org/event/mt-nittany-service/
END:VEVENT
BEGIN:VEVENT
DTSTART;TZID=UTC:20260304T183000
DTEND;TZID=UTC:20260305T193000
DTSTAMP:20260423T065824
CREATED:20240718T133206Z
LAST-MODIFIED:20260228T230804Z
UID:2436-1772649000-1772739000@nittanybaptist.org
SUMMARY:Midweek Bible Study
DESCRIPTION:Many Christians look at this service as “optional” however for those who do not they find it is a great boost to their lives spiritually !!
URL:https://nittanybaptist.org/event/midweek-bible-study/
END:VEVENT
BEGIN:VEVENT
DTSTART;TZID=UTC:20260301T104500
DTEND;TZID=UTC:20260301T113000
DTSTAMP:20260423T065824
CREATED:20240718T012956Z
LAST-MODIFIED:20260203T134023Z
UID:2434-1772361900-1772364600@nittanybaptist.org
SUMMARY:Morning Service
DESCRIPTION:Come hear a relevant message to draw you closer to the Lord !!
URL:https://nittanybaptist.org/event/morning-service/
END:VEVENT
BEGIN:VEVENT
DTSTART;TZID=UTC:20260301T094500
DTEND;TZID=UTC:20260301T094500
DTSTAMP:20260423T065824
CREATED:20240718T012840Z
LAST-MODIFIED:20260203T134220Z
UID:2432-1772358300-1772358300@nittanybaptist.org
SUMMARY:Sunday School
DESCRIPTION:Join us as we delve into the book of Revelation in our interactive sessions !! Bring your questions and enjoy the discussion !
URL:https://nittanybaptist.org/event/sunday-school/
END:VEVENT
BEGIN:VEVENT
DTSTART;TZID=UTC:20260201T104500
DTEND;TZID=UTC:20260201T113000
DTSTAMP:20260423T065824
CREATED:20240718T133342Z
LAST-MODIFIED:20260123T170809Z
UID:2438-1769942700-1769945400@nittanybaptist.org
SUMMARY:Morning Worship.
DESCRIPTION:Join us for a time of refreshing of worshipping our Lord and looking into the Scriptures together !
URL:https://nittanybaptist.org/event/morning-worship/
END:VEVENT
BEGIN:VEVENT
DTSTART;TZID=UTC:20260201T093000
DTEND;TZID=UTC:20260201T093000
DTSTAMP:20260423T065824
CREATED:20240718T134717Z
LAST-MODIFIED:20260117T140909Z
UID:2461-1769938200-1769938200@nittanybaptist.org
SUMMARY:Sunday School\,
DESCRIPTION:We are now in the Book of Revelation in the adult class and there are  children’s classes available too !
URL:https://nittanybaptist.org/event/sunday-school-3/
END:VEVENT
BEGIN:VEVENT
DTSTART;TZID=UTC:20260125T080000
DTEND;TZID=UTC:20260125T170000
DTSTAMP:20260423T065824
CREATED:20260123T170725Z
LAST-MODIFIED:20260123T170725Z
UID:2937-1769328000-1769360400@nittanybaptist.org
SUMMARY:All services cancelled today
DESCRIPTION:In light of predictions of an impending major snowstorm\, ALL services will be cancelled today !
URL:https://nittanybaptist.org/event/all-services-cancelled-today/
END:VEVENT
BEGIN:VEVENT
DTSTART;TZID=UTC:20260329T093000
DTEND;TZID=UTC:20260329T093000
DTSTAMP:20260423T065824
CREATED:20241211T132651Z
LAST-MODIFIED:20260324T140623Z
UID:2617-1774776600-1774776600@nittanybaptist.org
SUMMARY:No Sunday School.
DESCRIPTION:
URL:https://nittanybaptist.org/event/no-sunday-school-2/
END:VEVENT
BEGIN:VEVENT
DTSTART;TZID=UTC:20260104T104500
DTEND;TZID=UTC:20260104T113000
DTSTAMP:20260423T065824
CREATED:20251205T142644Z
LAST-MODIFIED:20251205T142644Z
UID:2910-1767523500-1767526200@nittanybaptist.org
SUMMARY:Lord's Supper
DESCRIPTION:As we begin a NEW Year we bring it in by celebrating what Jesus did for us at the cross !! Join us in this special ordinance of the church to start 2026 !
URL:https://nittanybaptist.org/event/lords-supper/
END:VEVENT
BEGIN:VEVENT
DTSTART;TZID=UTC:20251224T080000
DTEND;TZID=UTC:20251224T170000
DTSTAMP:20260423T065824
CREATED:20240718T134132Z
LAST-MODIFIED:20251125T133218Z
UID:2448-1766563200-1766595600@nittanybaptist.org
SUMMARY:No Midweek Service
DESCRIPTION:
URL:https://nittanybaptist.org/event/no-midweek-service/
END:VEVENT
BEGIN:VEVENT
DTSTART;TZID=UTC:20250815T180000
DTEND;TZID=UTC:20250815T190000
DTSTAMP:20260423T065824
CREATED:20250730T155711Z
LAST-MODIFIED:20250730T155711Z
UID:2800-1755280800-1755284400@nittanybaptist.org
SUMMARY:Dinner Out !
DESCRIPTION:A special blessing in a local church is time spent together not only in worship but fun events\, so join us this evening for  great food & fellowship at Hoss’ in State College
URL:https://nittanybaptist.org/event/dinner-out/
END:VEVENT
BEGIN:VEVENT
DTSTART;TZID=UTC:20250727T180000
DTEND;TZID=UTC:20250727T183000
DTSTAMP:20260423T065824
CREATED:20250701T122609Z
LAST-MODIFIED:20250701T122609Z
UID:2775-1753639200-1753641000@nittanybaptist.org
SUMMARY:Baptismal Service
DESCRIPTION:Come and support those following the Lord in obedience to His command for believer to be immersed!!
URL:https://nittanybaptist.org/event/baptismal-service-2/
END:VEVENT
BEGIN:VEVENT
DTSTART;TZID=UTC:20250118T173000
DTEND;TZID=UTC:20250118T190000
DTSTAMP:20260423T065824
CREATED:20241211T133058Z
LAST-MODIFIED:20241211T133058Z
UID:2619-1737221400-1737226800@nittanybaptist.org
SUMMARY:Churchwide Activity
DESCRIPTION:We will be heading to Hoss’ Restaurant for a fun night of food and fellowship !   This is for all ages !!
URL:https://nittanybaptist.org/event/churchwide-activity/
END:VEVENT
BEGIN:VEVENT
DTSTART;TZID=UTC:20241222T093000
DTEND;TZID=UTC:20241222T103000
DTSTAMP:20260423T065824
CREATED:20241108T162452Z
LAST-MODIFIED:20241211T132624Z
UID:2587-1734859800-1734863400@nittanybaptist.org
SUMMARY:No Sunday School
DESCRIPTION:IN lieu of the Special Service today there will be no Sunday School
URL:https://nittanybaptist.org/event/no-sunday-school/
END:VEVENT
BEGIN:VEVENT
DTSTART;TZID=UTC:20231229T160000
DTEND;TZID=UTC:20231229T220000
DTSTAMP:20260423T065824
CREATED:20150916T184729Z
LAST-MODIFIED:20150916T184729Z
UID:438-1703865600-1703887200@nittanybaptist.org
SUMMARY:Faith Conference
DESCRIPTION:Maecenas leo nisi\, efficitur at felis sit amet\, lacinia auctor quam. Aliquam euismod pretium mattis. Aenean sollicitudin orci non orci gravida ullamcorper. Duis utres odios pellentesque\, efficiturs odio vitae\, aliquams arcu. Sed pulvinar lacus at neque imperdiet lobortis. Phasellus eget lectus rutrum\, fringilla nibh ut\, convallis orci. Quisque magna risus\, lacinia a pharetra vel\, gravida ac mi. Aenean ac interdum nisi\, et vehicula nisl. Suspendisse potenti. Cras leo ex\, congue eget dignissim nec\, porta maximus erat. Etiam ornare arcu neque\, in viverra eros egestas eu. Mauris diam velit\, dictum et vehicula nec\, sagittis nec sapien. Donec tincidunt purus et justo porttitor\, non porttitor quam fermentum orci non aliquams arcu dolores ipsums. \nDonec maximus a ante sit amet nisl nisi at arcu. Donec lobortis libero ex\, a sollicitudin neque volutpat. Aenean pretium nisi id lectus cursus sagittis. Aliquam sit amet nisl pretium\, consectetur purus non\, porta libero. Integer dui dui\, porta non mollis sit amet\, pharetra nec risus. Donec fringilla ex non arcu auctor\, vel faucibus felis pharetra. Pellentesque condimentum suscipit mi. Sed pretium\, tellus et efficitur dapibus\, metus nunc gravida ante\, at interdum nisl nisi at arcu. Donec lobortis libero ex\, a sollicitudin neque dapibus vitae. Maecenas volutpat est sit amet leo pretium mollis eu a odio dolores ipsums ficilis etras.
URL:https://nittanybaptist.org/event/faith-conference/
LOCATION:South Campus\, 1234 Apple Avenue\, New York City\, NY\, 111111\, United States
CATEGORIES:Community,Food,Music
ATTACH;FMTTYPE=image/jpeg:https://nittanybaptist.org/wp-content/uploads/2015/09/event_1.jpg
ORGANIZER;CN="Avada Church":MAILTO:noreply@example.com
END:VEVENT
BEGIN:VEVENT
DTSTART;TZID=UTC:20231228T120000
DTEND;TZID=UTC:20231228T190000
DTSTAMP:20260423T065824
CREATED:20150916T185421Z
LAST-MODIFIED:20150916T185421Z
UID:439-1703764800-1703790000@nittanybaptist.org
SUMMARY:Harvest Festival
DESCRIPTION:Maecenas leo nisi\, efficitur at felis sit amet\, lacinia auctor quam. Aliquam euismod pretium mattis. Aenean sollicitudin orci non orci gravida ullamcorper. Duis utres odios pellentesque\, efficiturs odio vitae\, aliquams arcu. Sed pulvinar lacus at neque imperdiet lobortis. Phasellus eget lectus rutrum\, fringilla nibh ut\, convallis orci. Quisque magna risus\, lacinia a pharetra vel\, gravida ac mi. Aenean ac interdum nisi\, et vehicula nisl. Suspendisse potenti. Cras leo ex\, congue eget dignissim nec\, porta maximus erat. Etiam ornare arcu neque\, in viverra eros egestas eu. Mauris diam velit\, dictum et vehicula nec\, sagittis nec sapien. Donec tincidunt purus et justo porttitor\, non porttitor quam fermentum orci non aliquams arcu dolores ipsums. \nDonec maximus a ante sit amet nisl nisi at arcu. Donec lobortis libero ex\, a sollicitudin neque volutpat. Aenean pretium nisi id lectus cursus sagittis. Aliquam sit amet nisl pretium\, consectetur purus non\, porta libero. Integer dui dui\, porta non mollis sit amet\, pharetra nec risus. Donec fringilla ex non arcu auctor\, vel faucibus felis pharetra. Pellentesque condimentum suscipit mi. Sed pretium\, tellus et efficitur dapibus\, metus nunc gravida ante\, at interdum nisl nisi at arcu. Donec lobortis libero ex\, a sollicitudin neque dapibus vitae. Maecenas volutpat est sit amet leo pretium mollis eu a odio dolores ipsums ficilis etras.
URL:https://nittanybaptist.org/event/harvest-festival/
LOCATION:South Campus\, 1234 Apple Avenue\, New York City\, NY\, 111111\, United States
CATEGORIES:Community,Food,Outreach
ATTACH;FMTTYPE=image/jpeg:https://nittanybaptist.org/wp-content/uploads/2015/09/event_3-compressor.jpg
ORGANIZER;CN="Avada Church":MAILTO:noreply@example.com
END:VEVENT
BEGIN:VEVENT
DTSTART;TZID=UTC:20231226T080000
DTEND;TZID=UTC:20231226T170000
DTSTAMP:20260423T065824
CREATED:20150916T163923Z
LAST-MODIFIED:20150916T163923Z
UID:432-1703577600-1703610000@nittanybaptist.org
SUMMARY:Concert Series
DESCRIPTION:Maecenas leo nisi\, efficitur at felis sit amet\, lacinia auctor quam. Aliquam euismod pretium mattis. Aenean sollicitudin orci non orci gravida ullamcorper. Duis utres odios pellentesque\, efficiturs odio vitae\, aliquams arcu. Sed pulvinar lacus at neque imperdiet lobortis. Phasellus eget lectus rutrum\, fringilla nibh ut\, convallis orci. Quisque magna risus\, lacinia a pharetra vel\, gravida ac mi. Aenean ac interdum nisi\, et vehicula nisl. Suspendisse potenti. Cras leo ex\, congue eget dignissim nec\, porta maximus erat. Etiam ornare arcu neque\, in viverra eros egestas eu. Mauris diam velit\, dictum et vehicula nec\, sagittis nec sapien. Donec tincidunt purus et justo porttitor\, non porttitor quam fermentum orci non aliquams arcu dolores ipsums. \nDonec maximus a ante sit amet nisl nisi at arcu. Donec lobortis libero ex\, a sollicitudin neque volutpat. Aenean pretium nisi id lectus cursus sagittis. Aliquam sit amet nisl pretium\, consectetur purus non\, porta libero. Integer dui dui\, porta non mollis sit amet\, pharetra nec risus. Donec fringilla ex non arcu auctor\, vel faucibus felis pharetra. Pellentesque condimentum suscipit mi. Sed pretium\, tellus et efficitur dapibus\, metus nunc gravida ante\, at interdum nisl nisi at arcu. Donec lobortis libero ex\, a sollicitudin neque dapibus vitae. Maecenas volutpat est sit amet leo pretium mollis eu a odio dolores ipsums ficilis etras.
URL:https://nittanybaptist.org/event/concert-series-2/
LOCATION:South Campus\, 1234 Apple Avenue\, New York City\, NY\, 111111\, United States
CATEGORIES:Community,Food,Music
ATTACH;FMTTYPE=image/jpeg:https://nittanybaptist.org/wp-content/uploads/2015/09/event_2-compressor.jpg
ORGANIZER;CN="Avada Church":MAILTO:noreply@example.com
END:VEVENT
END:VCALENDAR