BEGIN:VCALENDAR
VERSION:2.0
PRODID:-//Nittany Baptist Church - ECPv6.15.20//NONSGML v1.0//EN
CALSCALE:GREGORIAN
METHOD:PUBLISH
X-WR-CALNAME:Nittany Baptist Church
X-ORIGINAL-URL:https://nittanybaptist.org
X-WR-CALDESC:Events for Nittany Baptist Church
REFRESH-INTERVAL;VALUE=DURATION:PT1H
X-Robots-Tag:noindex
X-PUBLISHED-TTL:PT1H
BEGIN:VTIMEZONE
TZID:UTC
BEGIN:STANDARD
TZOFFSETFROM:+0000
TZOFFSETTO:+0000
TZNAME:UTC
DTSTART:20250101T000000
END:STANDARD
END:VTIMEZONE
BEGIN:VEVENT
DTSTART;TZID=UTC:20260408T063000
DTEND;TZID=UTC:20260408T193000
DTSTAMP:20260422T230110
CREATED:20251201T230355Z
LAST-MODIFIED:20260406T124953Z
UID:2905-1775629800-1775676600@nittanybaptist.org
SUMMARY:No Midweek Bible Study.
DESCRIPTION:
URL:https://nittanybaptist.org/event/no-midweek-bible-study/
END:VEVENT
BEGIN:VEVENT
DTSTART;TZID=UTC:20260412T094500
DTEND;TZID=UTC:20260412T103000
DTSTAMP:20260422T230110
CREATED:20240905T133523Z
LAST-MODIFIED:20260406T125035Z
UID:2537-1775987100-1775989800@nittanybaptist.org
SUMMARY:Sunday School..
DESCRIPTION:
URL:https://nittanybaptist.org/event/sunday-school-5/
END:VEVENT
BEGIN:VEVENT
DTSTART;TZID=UTC:20260412T104500
DTEND;TZID=UTC:20260412T104500
DTSTAMP:20260422T230110
CREATED:20240718T134648Z
LAST-MODIFIED:20260406T125110Z
UID:2459-1775990700-1775990700@nittanybaptist.org
SUMMARY:Morning Worship\,
DESCRIPTION:Come worship with us and enjoy some Christlike music and a Bible based sermon to feed your soul !!!
URL:https://nittanybaptist.org/event/morning-worship-2/
END:VEVENT
BEGIN:VEVENT
DTSTART;TZID=UTC:20260413T090000
DTEND;TZID=UTC:20260413T090000
DTSTAMP:20260422T230110
CREATED:20240905T133031Z
LAST-MODIFIED:20260406T125152Z
UID:2531-1776070800-1776070800@nittanybaptist.org
SUMMARY:Homeschoolers Co-Op
DESCRIPTION:Our church sponsors a sizeable Co-op for homeschooling families.  Check with Rachelle with details at 360-7157. \nThis is a good time of learning regularly as a group and then there are also great field trips that enhance the learning experience of the children together !
URL:https://nittanybaptist.org/event/homeschoolers-co-op/
END:VEVENT
BEGIN:VEVENT
DTSTART;TZID=UTC:20260415T183000
DTEND;TZID=UTC:20260415T193000
DTSTAMP:20260422T230110
CREATED:20240718T134413Z
LAST-MODIFIED:20260406T125302Z
UID:2455-1776277800-1776281400@nittanybaptist.org
SUMMARY:Midweek Bible Study\,
DESCRIPTION:
URL:https://nittanybaptist.org/event/midweek-bible-study-3/
END:VEVENT
BEGIN:VEVENT
DTSTART;TZID=UTC:20260419T094500
DTEND;TZID=UTC:20260419T103000
DTSTAMP:20260422T230110
CREATED:20240718T133556Z
LAST-MODIFIED:20260407T131526Z
UID:2440-1776591900-1776594600@nittanybaptist.org
SUMMARY:Sunday School.
DESCRIPTION:Adult and kids classes delve into the Scriptures to give you an additional “dose” of the Word for the week !
URL:https://nittanybaptist.org/event/sunday-school-2/
END:VEVENT
BEGIN:VEVENT
DTSTART;TZID=UTC:20260419T104500
DTEND;TZID=UTC:20260419T113000
DTSTAMP:20260422T230110
CREATED:20240905T133611Z
LAST-MODIFIED:20260407T131601Z
UID:2539-1776595500-1776598200@nittanybaptist.org
SUMMARY:Morning Worship..
DESCRIPTION:
URL:https://nittanybaptist.org/event/morning-worship-3/
END:VEVENT
BEGIN:VEVENT
DTSTART;TZID=UTC:20260422T183000
DTEND;TZID=UTC:20260422T193000
DTSTAMP:20260422T230110
CREATED:20240718T134216Z
LAST-MODIFIED:20260407T131357Z
UID:2450-1776882600-1776886200@nittanybaptist.org
SUMMARY:Midweek Bible Study.
DESCRIPTION:Come together with us as we get a boost spiritually in the middle of the week !
URL:https://nittanybaptist.org/event/midweek-bible-study-2/
END:VEVENT
BEGIN:VEVENT
DTSTART;TZID=UTC:20260423T180000
DTEND;TZID=UTC:20260423T200000
DTSTAMP:20260422T230110
CREATED:20250113T143917Z
LAST-MODIFIED:20260406T124917Z
UID:2635-1776967200-1776974400@nittanybaptist.org
SUMMARY:Men's Fellowship
DESCRIPTION:A special time to get together as men for food\, fun\, & fellowship !
URL:https://nittanybaptist.org/event/mens-fellowship-2/
END:VEVENT
BEGIN:VEVENT
DTSTART;TZID=UTC:20260426T094500
DTEND;TZID=UTC:20260426T103000
DTSTAMP:20260422T230110
CREATED:20240718T134755Z
LAST-MODIFIED:20260407T131648Z
UID:2463-1777196700-1777199400@nittanybaptist.org
SUMMARY:Sunday School..
DESCRIPTION:We are now working our way into the Book of Revelation !!  Our class is almost full !!!!!!!!!!! Except for YOU !
URL:https://nittanybaptist.org/event/sunday-school-4/
END:VEVENT
BEGIN:VEVENT
DTSTART;TZID=UTC:20260426T104500
DTEND;TZID=UTC:20260426T113000
DTSTAMP:20260422T230110
CREATED:20240718T134834Z
LAST-MODIFIED:20260407T131721Z
UID:2465-1777200300-1777203000@nittanybaptist.org
SUMMARY:Morning Services
DESCRIPTION:Enjoy uplifting\, Christ honoring music and relevant\, expositional preaching to stir your soul and honor our Lord !!
URL:https://nittanybaptist.org/event/morning-services/
END:VEVENT
BEGIN:VEVENT
DTSTART;TZID=UTC:20260429T183000
DTEND;TZID=UTC:20260429T193000
DTSTAMP:20260422T230110
CREATED:20250701T122430Z
LAST-MODIFIED:20260407T131438Z
UID:2773-1777487400-1777491000@nittanybaptist.org
SUMMARY:Midweek Bible Study !
DESCRIPTION:The AWANA program for kids and for adults we have a practical Bible study !!
URL:https://nittanybaptist.org/event/midweek-bible-study-4/
END:VEVENT
END:VCALENDAR